BEGIN:VCALENDAR
VERSION:2.0
PRODID:spatie/icalendar-generator
DESCRIPTION:Veranstaltungen von Senioren-Netzwerk Rüttenscheid
X-WR-CALDESC:Veranstaltungen von Senioren-Netzwerk Rüttenscheid
REFRESH-INTERVAL;VALUE=DURATION:PT1440M
X-PUBLISHED-TTL:PT1440M
BEGIN:VTIMEZONE
TZID:Etc/GMT+0
BEGIN:STANDARD
DTSTART:20250613T180000Z
TZOFFSETFROM:+0000
TZOFFSETTO:+0000
END:STANDARD
END:VTIMEZONE
BEGIN:VTIMEZONE
TZID:UTC
BEGIN:STANDARD
DTSTART:20250723T141453Z
TZOFFSETFROM:+0000
TZOFFSETTO:+0000
END:STANDARD
END:VTIMEZONE
BEGIN:VEVENT
UID:1167-15
DTSTAMP:20260419T141453Z
SUMMARY:Basisgruppen-Treffen
LOCATION:Gemeindezentrum der Reformationskirche Julienstr. 39  Essen  45130
ORGANIZER;CN=admin:MAILTO:mail@kochenmitmusik.de
DTSTART;TZID=Etc/GMT+0:20260310T180000
DTEND;TZID=Etc/GMT+0:20260310T200000
X-ALT-DESC;FMTTYPE=TEXT/HTML:
CATEGORIES:Basisgruppentreffen
URL;VALUE=URI:https://xn--seniorennetzwerk-rttenscheid-j7c.de/mc-events/bas
 isgruppen-treffen/
METHOD:PUBLISH
END:VEVENT
END:VCALENDAR