BEGIN:VCALENDAR
VERSION:2.0
PRODID:spatie/icalendar-generator
DESCRIPTION:Veranstaltungen von Senioren-Netzwerk Rüttenscheid
X-WR-CALDESC:Veranstaltungen von Senioren-Netzwerk Rüttenscheid
REFRESH-INTERVAL;VALUE=DURATION:PT1440M
X-PUBLISHED-TTL:PT1440M
BEGIN:VTIMEZONE
TZID:Etc/GMT+0
BEGIN:STANDARD
DTSTART:20250410T180000Z
TZOFFSETFROM:+0000
TZOFFSETTO:+0000
END:STANDARD
END:VTIMEZONE
BEGIN:VTIMEZONE
TZID:UTC
BEGIN:STANDARD
DTSTART:20250727T190855Z
TZOFFSETFROM:+0000
TZOFFSETTO:+0000
END:STANDARD
END:VTIMEZONE
BEGIN:VEVENT
UID:1223-27
DTSTAMP:20260423T190855Z
SUMMARY:Literaturkreis
LOCATION:Zentrum 60plus im Isenbergtreff Isenbergstraße 81  Essen  45130
ORGANIZER;CN=Sabine Allery:MAILTO:sabine.allery@gmail.com
RRULE:FREQ=MONTHLY;BYDAY=4MO;UNTIL=20251201T000000Z
DTSTART;TZID=Etc/GMT+0:20260105T180000
DTEND;TZID=Etc/GMT+0:20260105T210000
X-ALT-DESC;FMTTYPE=TEXT/HTML:<p>Zu jedem Termin wird ein bestimmtes Buch ge
 lesen. Bitte informiert euch auf der Veranstaltungsseite \"Literaturkreis\
 " (Menü GRUPPENANGEBOTE &amp;gt\; LITERATURKREIS).</p>\n
CATEGORIES:Literaturkreis
URL;VALUE=URI:https://xn--seniorennetzwerk-rttenscheid-j7c.de/mc-events/lit
 eraturkreis/?mc_id=1223
METHOD:PUBLISH
END:VEVENT
END:VCALENDAR