BEGIN:VCALENDAR
VERSION:2.0
PRODID:spatie/icalendar-generator
DESCRIPTION:Veranstaltungen von Senioren-Netzwerk Rüttenscheid
X-WR-CALDESC:Veranstaltungen von Senioren-Netzwerk Rüttenscheid
REFRESH-INTERVAL;VALUE=DURATION:PT1440M
X-PUBLISHED-TTL:PT1440M
BEGIN:VTIMEZONE
TZID:Etc/GMT+0
BEGIN:STANDARD
DTSTART:20250711T150000Z
TZOFFSETFROM:+0000
TZOFFSETTO:+0000
END:STANDARD
END:VTIMEZONE
BEGIN:VTIMEZONE
TZID:UTC
BEGIN:STANDARD
DTSTART:20250728T090503Z
TZOFFSETFROM:+0000
TZOFFSETTO:+0000
END:STANDARD
END:VTIMEZONE
BEGIN:VEVENT
UID:1375-32
DTSTAMP:20260424T090503Z
SUMMARY:Gesell-schaftsspiele
LOCATION:Begegnungsraum der Reformationskirche Julienstraße 39  Essen  451
 31
ORGANIZER;CN=admin:MAILTO:mail@kochenmitmusik.de
RRULE:FREQ=WEEKLY;UNTIL=20261222T000000Z
DTSTART;TZID=Etc/GMT+0:20260407T150000
DTEND;TZID=Etc/GMT+0:20260407T180000
X-ALT-DESC;FMTTYPE=TEXT/HTML:
CATEGORIES:Gesellschaftspiele
URL;VALUE=URI:https://xn--seniorennetzwerk-rttenscheid-j7c.de/mc-events/ges
 ell-schaftsspiele/?mc_id=1375
METHOD:PUBLISH
END:VEVENT
END:VCALENDAR