BEGIN:VCALENDAR
VERSION:2.0
PRODID:spatie/icalendar-generator
DESCRIPTION:Veranstaltungen von Senioren-Netzwerk Rüttenscheid
X-WR-CALDESC:Veranstaltungen von Senioren-Netzwerk Rüttenscheid
REFRESH-INTERVAL;VALUE=DURATION:PT1440M
X-PUBLISHED-TTL:PT1440M
BEGIN:VTIMEZONE
TZID:Etc/GMT+0
BEGIN:STANDARD
DTSTART:20250816T140000Z
TZOFFSETFROM:+0000
TZOFFSETTO:+0000
END:STANDARD
END:VTIMEZONE
BEGIN:VTIMEZONE
TZID:UTC
BEGIN:STANDARD
DTSTART:20250727T190850Z
TZOFFSETFROM:+0000
TZOFFSETTO:+0000
END:STANDARD
END:VTIMEZONE
BEGIN:VEVENT
UID:1416-41
DTSTAMP:20260423T190850Z
SUMMARY:Philos. Runde
LOCATION:Begegnungsraum der Reformationskirche Julienstraße 39  Essen  451
 31
ORGANIZER;CN=admin:MAILTO:mail@kochenmitmusik.de
DTSTART;TZID=Etc/GMT+0:20260513T140000
DTEND;TZID=Etc/GMT+0:20260513T160000
X-ALT-DESC;FMTTYPE=TEXT/HTML:<p>Besprochen werden philosophische und psycho
 logische Themen.</p>\n
CATEGORIES:Philos. Runde
URL;VALUE=URI:https://xn--seniorennetzwerk-rttenscheid-j7c.de/mc-events/phi
 los-runde/
METHOD:PUBLISH
END:VEVENT
END:VCALENDAR