BEGIN:VCALENDAR
VERSION:2.0
PRODID:spatie/icalendar-generator
DESCRIPTION:Veranstaltungen von Senioren-Netzwerk Rüttenscheid
X-WR-CALDESC:Veranstaltungen von Senioren-Netzwerk Rüttenscheid
REFRESH-INTERVAL;VALUE=DURATION:PT1440M
X-PUBLISHED-TTL:PT1440M
BEGIN:VTIMEZONE
TZID:Etc/GMT+0
BEGIN:STANDARD
DTSTART:20250616T140000Z
TZOFFSETFROM:+0000
TZOFFSETTO:+0000
END:STANDARD
END:VTIMEZONE
BEGIN:VTIMEZONE
TZID:UTC
BEGIN:STANDARD
DTSTART:20250728T090453Z
TZOFFSETFROM:+0000
TZOFFSETTO:+0000
END:STANDARD
END:VTIMEZONE
BEGIN:VEVENT
UID:1434-44
DTSTAMP:20260424T090453Z
SUMMARY:Boule (Winter)
LOCATION:Gruga\, Bouleplatz Grugapark Bouleplatz
ORGANIZER;CN=admin:MAILTO:mail@kochenmitmusik.de
DTSTART;TZID=Etc/GMT+0:20260313T140000
DTEND;TZID=Etc/GMT+0:20260313T160000
X-ALT-DESC;FMTTYPE=TEXT/HTML:<p>14:00 Uhr auf dem Bouleplatz der Gruga (P
 unkt 36 im Lageplan\, am Platz unter den Linden).</p>\n
CATEGORIES:Boule
URL;VALUE=URI:https://xn--seniorennetzwerk-rttenscheid-j7c.de/mc-events/bou
 le-winter/
METHOD:PUBLISH
END:VEVENT
END:VCALENDAR