BEGIN:VCALENDAR
VERSION:2.0
PRODID:spatie/icalendar-generator
DESCRIPTION:Veranstaltungen von Senioren-Netzwerk Rüttenscheid
X-WR-CALDESC:Veranstaltungen von Senioren-Netzwerk Rüttenscheid
REFRESH-INTERVAL;VALUE=DURATION:PT1440M
X-PUBLISHED-TTL:PT1440M
BEGIN:VTIMEZONE
TZID:Etc/GMT+0
BEGIN:STANDARD
DTSTART:20250422T130000Z
TZOFFSETFROM:+0000
TZOFFSETTO:+0000
END:STANDARD
END:VTIMEZONE
BEGIN:VTIMEZONE
TZID:UTC
BEGIN:STANDARD
DTSTART:20250727T190905Z
TZOFFSETFROM:+0000
TZOFFSETTO:+0000
END:STANDARD
END:VTIMEZONE
BEGIN:VEVENT
UID:1500-20
DTSTAMP:20260423T190905Z
SUMMARY:Wandern
LOCATION:
ORGANIZER;CN=admin:MAILTO:mail@kochenmitmusik.de
DTSTART;TZID=Etc/GMT+0:20260117T130000
DTEND;TZID=Etc/GMT+0:20260117T180000
X-ALT-DESC;FMTTYPE=TEXT/HTML:<p>Termin und Treffpunkt für die Wanderungen 
 können hier nicht verbindlich angegeben werden\, weil sie u. a. vom aktue
 llen Wetter abhängen. Bei Interesse informiert euch bitte unbedingt vorhe
 r über die Seite GRUPPENANGEBOTE &amp;gt\; WANDERUNGEN über aktuelle Gegeben
 heiten.</p>\n
CATEGORIES:Wandern
URL;VALUE=URI:https://xn--seniorennetzwerk-rttenscheid-j7c.de/mc-events/wan
 dern/
METHOD:PUBLISH
END:VEVENT
END:VCALENDAR