BEGIN:VCALENDAR
VERSION:2.0
PRODID:spatie/icalendar-generator
DESCRIPTION:Veranstaltungen von Senioren-Netzwerk Rüttenscheid
X-WR-CALDESC:Veranstaltungen von Senioren-Netzwerk Rüttenscheid
REFRESH-INTERVAL;VALUE=DURATION:PT1440M
X-PUBLISHED-TTL:PT1440M
BEGIN:VTIMEZONE
TZID:Etc/GMT+0
BEGIN:STANDARD
DTSTART:20250717T190000Z
TZOFFSETFROM:+0000
TZOFFSETTO:+0000
END:STANDARD
END:VTIMEZONE
BEGIN:VTIMEZONE
TZID:UTC
BEGIN:STANDARD
DTSTART:20250724T002248Z
TZOFFSETFROM:+0000
TZOFFSETTO:+0000
END:STANDARD
END:VTIMEZONE
BEGIN:VEVENT
UID:1510-30
DTSTAMP:20260420T002248Z
SUMMARY:Skat
LOCATION:Wirtshaus Rü Rüttenscheider Straße 81  Essen
ORGANIZER;CN=admin:MAILTO:mail@kochenmitmusik.de
DTSTART;TZID=Etc/GMT+0:20260413T190000
DTEND;TZID=Etc/GMT+0:20260413T220000
X-ALT-DESC;FMTTYPE=TEXT/HTML:
CATEGORIES:Skat
URL;VALUE=URI:https://xn--seniorennetzwerk-rttenscheid-j7c.de/mc-events/ska
 t/
METHOD:PUBLISH
END:VEVENT
END:VCALENDAR